BEGIN:VCALENDAR
VERSION:2.0
PRODID:-//Karin Ammerer - ECPv6.15.17//NONSGML v1.0//EN
CALSCALE:GREGORIAN
METHOD:PUBLISH
X-ORIGINAL-URL:https://ammerer.net
X-WR-CALDESC:Veranstaltungen für Karin Ammerer
REFRESH-INTERVAL;VALUE=DURATION:PT1H
X-Robots-Tag:noindex
X-PUBLISHED-TTL:PT1H
BEGIN:VTIMEZONE
TZID:Europe/Berlin
BEGIN:DAYLIGHT
TZOFFSETFROM:+0100
TZOFFSETTO:+0200
TZNAME:CEST
DTSTART:20240331T010000
END:DAYLIGHT
BEGIN:STANDARD
TZOFFSETFROM:+0200
TZOFFSETTO:+0100
TZNAME:CET
DTSTART:20241027T010000
END:STANDARD
BEGIN:DAYLIGHT
TZOFFSETFROM:+0100
TZOFFSETTO:+0200
TZNAME:CEST
DTSTART:20250330T010000
END:DAYLIGHT
BEGIN:STANDARD
TZOFFSETFROM:+0200
TZOFFSETTO:+0100
TZNAME:CET
DTSTART:20251026T010000
END:STANDARD
BEGIN:DAYLIGHT
TZOFFSETFROM:+0100
TZOFFSETTO:+0200
TZNAME:CEST
DTSTART:20260329T010000
END:DAYLIGHT
BEGIN:STANDARD
TZOFFSETFROM:+0200
TZOFFSETTO:+0100
TZNAME:CET
DTSTART:20261025T010000
END:STANDARD
END:VTIMEZONE
BEGIN:VEVENT
DTSTART;TZID=Europe/Berlin:20250501T080000
DTEND;TZID=Europe/Berlin:20250501T170000
DTSTAMP:20260420T152636
CREATED:20240831T134356Z
LAST-MODIFIED:20240831T134356Z
UID:3100-1746086400-1746118800@ammerer.net
SUMMARY:Staatsfeiertag
DESCRIPTION:Staatsfeiertag
URL:https://ammerer.net/event/staatsfeiertag-6/
CATEGORIES:fix gebucht
END:VEVENT
BEGIN:VEVENT
DTSTART;TZID=Europe/Berlin:20250501T080000
DTEND;TZID=Europe/Berlin:20250501T170000
DTSTAMP:20260420T152636
CREATED:20240916T170538Z
LAST-MODIFIED:20240916T170538Z
UID:3167-1746086400-1746118800@ammerer.net
SUMMARY:Staatsfeiertag
DESCRIPTION:Staatsfeiertag
URL:https://ammerer.net/event/staatsfeiertag-7/
CATEGORIES:fix gebucht
END:VEVENT
BEGIN:VEVENT
DTSTART;TZID=Europe/Berlin:20250505T080000
DTEND;TZID=Europe/Berlin:20250509T170000
DTSTAMP:20260420T152636
CREATED:20240916T170715Z
LAST-MODIFIED:20241113T130446Z
UID:3171-1746432000-1746810000@ammerer.net
SUMMARY:Buchwirtschaft
DESCRIPTION:Buchwirtschaft
URL:https://ammerer.net/event/buchwirtschaft-41/
CATEGORIES:Reserviert. Bitte anfragen!
END:VEVENT
BEGIN:VEVENT
DTSTART;TZID=Europe/Berlin:20250512T080000
DTEND;TZID=Europe/Berlin:20250512T170000
DTSTAMP:20260420T152636
CREATED:20241014T182051Z
LAST-MODIFIED:20241014T182051Z
UID:3237-1747036800-1747069200@ammerer.net
SUMMARY:VS Eidenberg
DESCRIPTION:VS Eidenberg
URL:https://ammerer.net/event/vs-eidenberg/
CATEGORIES:fix gebucht
END:VEVENT
BEGIN:VEVENT
DTSTART;TZID=Europe/Berlin:20250513T080000
DTEND;TZID=Europe/Berlin:20250513T170000
DTSTAMP:20260420T152636
CREATED:20250123T170739Z
LAST-MODIFIED:20250123T170739Z
UID:3283-1747123200-1747155600@ammerer.net
SUMMARY:VS Langenlois
DESCRIPTION:VS Langenlois
URL:https://ammerer.net/event/vs-langenlois/
CATEGORIES:fix gebucht
END:VEVENT
BEGIN:VEVENT
DTSTART;TZID=Europe/Berlin:20250517T080000
DTEND;TZID=Europe/Berlin:20250519T170000
DTSTAMP:20260420T152636
CREATED:20240831T135128Z
LAST-MODIFIED:20250316T152729Z
UID:3104-1747468800-1747674000@ammerer.net
SUMMARY:Pfingsten
DESCRIPTION:Pfingsten
URL:https://ammerer.net/event/pfingsten-5/
CATEGORIES:fix gebucht
END:VEVENT
BEGIN:VEVENT
DTSTART;TZID=Europe/Berlin:20250518T080000
DTEND;TZID=Europe/Berlin:20250520T170000
DTSTAMP:20260420T152636
CREATED:20240916T170630Z
LAST-MODIFIED:20240916T170630Z
UID:3169-1747555200-1747760400@ammerer.net
SUMMARY:Pfingsten
DESCRIPTION:Pfingsten
URL:https://ammerer.net/event/pfingsten-6/
CATEGORIES:fix gebucht
END:VEVENT
BEGIN:VEVENT
DTSTART;TZID=Europe/Berlin:20250520T080000
DTEND;TZID=Europe/Berlin:20250520T170000
DTSTAMP:20260420T152636
CREATED:20250316T152951Z
LAST-MODIFIED:20250316T152951Z
UID:3307-1747728000-1747760400@ammerer.net
SUMMARY:BH Morawa Bruck an der Mur
DESCRIPTION:BH Morawa Bruck an der Mur
URL:https://ammerer.net/event/bh-morawa-bruck-an-der-mur/
CATEGORIES:fix gebucht
END:VEVENT
BEGIN:VEVENT
DTSTART;TZID=Europe/Berlin:20250522T080000
DTEND;TZID=Europe/Berlin:20250522T170000
DTSTAMP:20260420T152636
CREATED:20250316T153055Z
LAST-MODIFIED:20250316T153055Z
UID:3309-1747900800-1747933200@ammerer.net
SUMMARY:PSC Mariazell
DESCRIPTION:PSC Mariazell
URL:https://ammerer.net/event/psc-mariazell/
CATEGORIES:fix gebucht
END:VEVENT
BEGIN:VEVENT
DTSTART;TZID=Europe/Berlin:20250523T080000
DTEND;TZID=Europe/Berlin:20250523T170000
DTSTAMP:20260420T152636
CREATED:20250316T153129Z
LAST-MODIFIED:20250316T153129Z
UID:3311-1747987200-1748019600@ammerer.net
SUMMARY:VS 40 Linz
DESCRIPTION:VS 40 Linz
URL:https://ammerer.net/event/vs-40-linz/
CATEGORIES:fix gebucht
END:VEVENT
BEGIN:VEVENT
DTSTART;TZID=Europe/Berlin:20250526T080000
DTEND;TZID=Europe/Berlin:20250526T170000
DTSTAMP:20260420T152636
CREATED:20241113T130634Z
LAST-MODIFIED:20241113T130634Z
UID:3249-1748246400-1748278800@ammerer.net
SUMMARY:OVS Wittelsbachstraße
DESCRIPTION:OVS Wittelsbachstraße
URL:https://ammerer.net/event/ovs-wittelsbachstrasse-2/
CATEGORIES:fix gebucht
END:VEVENT
BEGIN:VEVENT
DTSTART;TZID=Europe/Berlin:20250527T080000
DTEND;TZID=Europe/Berlin:20250528T170000
DTSTAMP:20260420T152636
CREATED:20250316T153239Z
LAST-MODIFIED:20250316T153239Z
UID:3313-1748332800-1748451600@ammerer.net
SUMMARY:bfi Hartberg
DESCRIPTION:bfi Hartberg
URL:https://ammerer.net/event/bfi-hartberg-41/
CATEGORIES:fix gebucht
END:VEVENT
BEGIN:VEVENT
DTSTART;TZID=Europe/Berlin:20250529T080000
DTEND;TZID=Europe/Berlin:20250529T170000
DTSTAMP:20260420T152636
CREATED:20240831T135325Z
LAST-MODIFIED:20240831T135325Z
UID:3106-1748505600-1748538000@ammerer.net
SUMMARY:Christi Himmelfahrt
DESCRIPTION:Christi Himmelfahrt
URL:https://ammerer.net/event/christi-himmelfahrt-7/
CATEGORIES:fix gebucht
END:VEVENT
BEGIN:VEVENT
DTSTART;TZID=Europe/Berlin:20250529T080000
DTEND;TZID=Europe/Berlin:20250529T170000
DTSTAMP:20260420T152636
CREATED:20240916T170756Z
LAST-MODIFIED:20240916T170756Z
UID:3173-1748505600-1748538000@ammerer.net
SUMMARY:Christi Himmelfahrt
DESCRIPTION:Christi Himmelfahrt
URL:https://ammerer.net/event/christi-himmelfahrt-8/
CATEGORIES:fix gebucht
END:VEVENT
END:VCALENDAR